BEGIN:VCALENDAR
VERSION:2.0
PRODID:-//Children Without Borders - ECPv6.6.4.2//NONSGML v1.0//EN
CALSCALE:GREGORIAN
METHOD:PUBLISH
X-ORIGINAL-URL:https://childrenwithoutborders.ca
X-WR-CALDESC:Events for Children Without Borders
REFRESH-INTERVAL;VALUE=DURATION:PT1H
X-Robots-Tag:noindex
X-PUBLISHED-TTL:PT1H
BEGIN:VTIMEZONE
TZID:America/Toronto
BEGIN:DAYLIGHT
TZOFFSETFROM:-0500
TZOFFSETTO:-0400
TZNAME:EDT
DTSTART:20210314T070000
END:DAYLIGHT
BEGIN:STANDARD
TZOFFSETFROM:-0400
TZOFFSETTO:-0500
TZNAME:EST
DTSTART:20211107T060000
END:STANDARD
END:VTIMEZONE
BEGIN:VEVENT
DTSTART;TZID=America/Toronto:20210828T130000
DTEND;TZID=America/Toronto:20210828T150000
DTSTAMP:20260420T084106
CREATED:20210818T183244Z
LAST-MODIFIED:20210818T183702Z
UID:9643-1630155600-1630162800@childrenwithoutborders.ca
SUMMARY:CWB's 1st Virtual Spelling Bee Competition
DESCRIPTION:About this event\n\n\nOur goal is to promote the importance of education among youth while bringing participants of various communities under one roof. Spelling Bee will be a challenging and competitive competition that will increase the participant’s confidence and improve their spellings. \n  \nPre-Competition: \nThis virtual competition will be held for students from Grade 1 to Grade 8 via Zoom Meet and will be grouped into three categories. \n  \n\nPrimary (Grade 1-3) \nJunior (Grade 4-6)\nIntermediate (Grade 7-8)\n\n  \nOnce registered\, CWB members will email a copy of the practice booklet that consists of 90-100 words. The earlier you register\, the more practice time your child/ren will have. \n  \nCompetition Day: \nVirtual check-ins will begin at 12:45 p.m. The competition is scheduled to begin at 1:00 p.m for every category as scheduled. \n  \nPanelists: \nWe will be having certified teachers in the judge’s panel for this competition. In addition to having 3 judges\, we will also have 3 recorders. One recorder per category will be recording the spelling of the word given by the participant while the second recorder will be monitoring the timing. Each participant will have 25 seconds to spell the word. \n  \nPrizes: \nEach category will have the top 3 winners. The prizes for 1st place winners will be printers\, 2nd place winners will be awarded with $25 Indigo Gift Cards and 3rd place winners will be awarded with $20 Staples Gift Cards for back to school shopping! \n  \nIn addition\, each participant will receive a “Certificate of Participation”  \n  \nThank you to #RisingYouth\, TakingITGlobal\, the Government of Canada\, and Canada Service Corps for generously supporting this project!  \n  \nDo you have a simple project idea to support your community? TakingITGlobal is looking to support youth who are inspired with ideas and ready to take action through their youth-led community service grants. \n  \nApply for a #RisingYouth grant today at www.risingyouth.ca!
URL:https://childrenwithoutborders.ca/event/cwbs-1st-virtual-spelling-bee-competition/
CATEGORIES:Future Events
ATTACH;FMTTYPE=image/jpeg:https://childrenwithoutborders.ca/wp-content/uploads/2021/08/0001-2.jpg
END:VEVENT
END:VCALENDAR